BEGIN:VCALENDAR
VERSION:2.0
PRODID:-//Amtoft Lystbådelaug - ECPv6.3.3.1//NONSGML v1.0//EN
CALSCALE:GREGORIAN
METHOD:PUBLISH
X-ORIGINAL-URL:https://amtoftlystbaadelaug.dk
X-WR-CALDESC:Begivenheder for Amtoft Lystbådelaug
REFRESH-INTERVAL;VALUE=DURATION:PT1H
X-Robots-Tag:noindex
X-PUBLISHED-TTL:PT1H
BEGIN:VTIMEZONE
TZID:Europe/Copenhagen
BEGIN:DAYLIGHT
TZOFFSETFROM:+0100
TZOFFSETTO:+0200
TZNAME:CEST
DTSTART:20200329T010000
END:DAYLIGHT
BEGIN:STANDARD
TZOFFSETFROM:+0200
TZOFFSETTO:+0100
TZNAME:CET
DTSTART:20201025T010000
END:STANDARD
END:VTIMEZONE
BEGIN:VEVENT
DTSTART;VALUE=DATE:20200407
DTEND;VALUE=DATE:20200408
DTSTAMP:20260423T025915
CREATED:20200323T135900Z
LAST-MODIFIED:20200323T135905Z
UID:640-1586217600-1586303999@amtoftlystbaadelaug.dk
SUMMARY:Østmolen forventes færdigbygget
DESCRIPTION:
URL:https://amtoftlystbaadelaug.dk/kalender/oestmolen-forventes-faerdigbygget/
LOCATION:Klubhuset
CATEGORIES:Havnearbejde
END:VEVENT
END:VCALENDAR